Workbook
Name ewidencja_wydania: #REF!
Name zal_4_I_2023: #REF!
Name zal_4_II_2023: #REF!
Name zal_4_III_2023: #REF!
Name zal_4_IV_2023: #REF!
Name zal_4_IX_2023: #REF!
Name zal_4_V_2023: #REF!
Name zal_4_VI_2023: #REF!
Name zal_4_VII_2023: #REF!
Name zal_4_VIII_2023: #REF!
Name zal_4_X_2023: #REF!
Name zal_4_XI_2023: #REF!
Name zal_4_XII_2023: #REF!

Sheet Informacja do 03.26
AF1: Filety z makreli w sosie pomidorowym | AG1: Cukier biały | AH1: Miód nektarowy wielokwiatowy | AI1: Olej rzepakowy | AJ1: Fasolka po bretońsku | AK1: Klopsiki wieprzowe w sosie koperkowym
B2: Sprawozdanie o ilości poszczególnych artykułów spożywczych przekazanych osobom najbardziej potrzebującym oraz liczba osób objętych pomocą żywnościową w okresie od dnia podpisania umowy do 03.2026 w ramach FEPŻ PP 2025
B4: należy uzupełnić tylko pola w kolorze
B6: DOTYCZY DYSTRYBUCJI ARTYKUŁÓW SPOŻYWCZYCH FEPŻ [w szt.]
B7: Nazwa OPL | D7: Groszek zielony | E7: Fasola biała | F7: Passata pomidorowa | G7: Dżem truskawkowy | H7: Sok jabłkowy | I7: Sos warzywny słodko-kwaśny | J7: Makaron 4-jajeczny wstążki | K7: Mąka pszenna | L7: Kasza gryczana | M7: Płatki owsiane | N7: Herbatniki maślane | O7: Kawa zbożowa rozpuszczalna | P7: Mleko UHT | Q7: Ser podpuszczkowy dojrzewający | R7: Szynka wieprzowa | S7: Szynka drobiowa | T7: Gulasz angielski | U7: Kiełbasa podsuszana | V7: Filety z makreli w sosie pomidorowym | W7: Cukier biały | X7: Miód nektarowy wielokwiatowy | Y7: Olej rzepakowy | Z7: Fasolka po bretońsku | AA7: Klopsiki wieprzowe w sosie koperkowym | AB7: Liczba osób objętych pomocą żywnościową
D8: ilość szt | E8: ilość szt | F8: ilość szt | G8: ilość szt | H8: ilość szt | I8: ilość szt | J8: ilość szt | K8: ilość szt | L8: ilość szt | M8: ilość szt | N8: ilość szt | O8: ilość szt | P8: ilość szt | Q8: ilość szt | R8: ilość szt | S8: ilość szt | T8: ilość szt | U8: ilość szt | V8: ilość szt | W8: ilość szt | X8: ilość szt | Y8: ilość szt | Z8: ilość szt | AA8: ilość szt
B9: Łączna ilość przekazanych artykułów spożywczych FEPŻ w sztukach przez OPR do OPL (dane z dokumentu WZ) | AB9: 0
B10: Łączna ilość artykułów spożywczych w sztukach wydanych osobom zakwalifikowanym do FEPŻ PP 2025
B11: Straty (szt.)
B12: Razem | D12: =D10+D11 -> 0 | E12: =E10+E11 -> 0 | F12: =F10+F11 -> 0 | G12: =G10+G11 -> 0 | H12: =H10+H11 -> 0 | I12: =I10+I11 -> 0 | J12: =J10+J11 -> 0 | K12: =K10+K11 -> 0 | ... N12: =N10+N11 -> 0 | R12: =R10+R11 -> 0 | S12: =S10+S11 -> 0 | V12: =V10+V11 -> 0 | W12: =W10+W11 -> 0 | X12: =X10+X11 -> 0 | Y12: =Y10+Y11 -> 0 | Z12: =Z10+Z11 -> 0 | AA12: =AA10+AA11 -> 0
B13: Walidacja [STAN MAGAZYNOWY] | D13: =D9-D12 -> 0 | E13: =E9-E12 -> 0 | F13: =F9-F12 -> 0 | G13: =G9-G12 -> 0 | H13: =H9-H12 -> 0 | I13: =I9-I12 -> 0 | J13: =J9-J12 -> 0 | K13: =K9-K12 -> 0 | ... AA13: =AA9-AA12 -> 0
B15: DOTYCZY DYSTRYBUCJI ŻYWNOŚCI Z DAROWIZN [w kg]
B16: Łączna ilość żywności z darowizn w kg przekazanej przez OPR do OPL (dane z dokumentu WZ od Banku Żywności) | D16: 5
B17: Łączna ilość żywności z darowizn w kg pozyskanej przez OPL (dane z dokumentu WZ od darczyńcy) | D17: 0
B18: Łączna ilość żywności z darowizn w kg wydanych osobom zakwalifikowanym do FEPŻ PP 2024 | D18: 3
B19: Łączna ilość żywności z darowizn wydanych pozostałym osobom | D19: 0
B20: Straty (kg) | D20: 0
B21: Razem | D21: =D18+D19+D20 -> 3
B22: Walidacja | D22: =D16+D17-D21 -> 2
B23: Łączna liczba osób zakwalifikowanych do FEPŻ PP 24, którym przekazano żywność z darowizn
B26: Miejsce i data sporządzenia zestawienia | L26: Imię i nazwisko osoby/osób uprawnionych do reprezentowania organizacji

Sheet Infomacja do 06.26
B2: Sprawozdanie o ilości poszczególnych artykułów spożywczych przekazanych osobom najbardziej potrzebującym oraz liczba osób objętych pomocą żywnościową w okresie od dnia podpisania umowy do 03.2026 w ramach FEPŻ PP 2025
B4: należy uzupełnić tylko pola w kolorze
B6: DOTYCZY DYSTRYBUCJI ARTYKUŁÓW SPOŻYWCZYCH FEPŻ [w szt.]
B7: Nazwa OPL | D7: ='Informacja do 03.26'!D7 -> Groszek zielony | E7: ='Informacja do 03.26'!E7 -> Fasola biała | F7: ='Informacja do 03.26'!F7 -> Passata pomidorowa | G7: ='Informacja do 03.26'!G7 -> Dżem truskawkowy | H7: ='Informacja do 03.26'!H7 -> Sok jabłkowy | I7: ='Informacja do 03.26'!I7 -> Sos warzywny słodko-kwaśny | J7: ='Informacja do 03.26'!J7 -> Makaron 4-jajeczny wstążki | K7: ='Informacja do 03.26'!K7 -> Mąka pszenna | ... AA7: ='Informacja do 03.26'!AA7 -> Klopsiki wieprzowe w sosie koperkowym | AB7: Liczba osób objętych pomocą żywnościową
D8: ilość szt | E8: ilość szt | F8: ilość szt | G8: ilość szt | H8: ilość szt | I8: ilość szt | J8: ilość szt | K8: ilość szt | L8: ilość szt | M8: ilość szt | N8: ilość szt | O8: ilość szt | P8: ilość szt | Q8: ilość szt | R8: ilość szt | S8: ilość szt | T8: ilość szt | U8: ilość szt | V8: ilość szt | W8: ilość szt | X8: ilość szt | Y8: ilość szt | Z8: ilość szt | AA8: ilość szt
B9: Łączna ilość przekazanych artykułów spożywczych FEPŻ w sztukach przez OPR do OPL (dane z dokumentu WZ) | AB9: 0
B10: Łączna ilość artykułów spożywczych w sztukach wydanych osobom zakwalifikowanym do FEPŻ PP 2025
B11: Straty (szt.)
B12: Razem | D12: =D10+D11 -> 0 | E12: =E10+E11 -> 0 | F12: =F10+F11 -> 0 | G12: =G10+G11 -> 0 | H12: =H10+H11 -> 0 | I12: =I10+I11 -> 0 | J12: =J10+J11 -> 0 | K12: =K10+K11 -> 0 | ... P12: =P10+P11 -> 0 | V12: =V10+V11 -> 0 | W12: =W10+W11 -> 0 | X12: =X10+X11 -> 0 | Y12: =Y10+Y11 -> 0 | Z12: =Z10+Z11 -> 0 | AA12: =AA10+AA11 -> 0
B13: Walidacja [STAN MAGAZYNOWY] | D13: =D9-D12 -> 0 | E13: =E9-E12 -> 0 | F13: =F9-F12 -> 0 | G13: =G9-G12 -> 0 | H13: =H9-H12 -> 0 | I13: =I9-I12 -> 0 | J13: =J9-J12 -> 0 | K13: =K9-K12 -> 0 | ... AA13: =AA9-AA12 -> 0
B15: DOTYCZY DYSTRYBUCJI ŻYWNOŚCI Z DAROWIZN [w kg]
B16: Łączna ilość żywności z darowizn w kg przekazanej przez OPR do OPL (dane z dokumentu WZ od Banku Żywności) | D16: 0
B17: Łączna ilość żywności z darowizn w kg pozyskanej przez OPL (dane z dokumentu WZ od darczyńcy) | D17: 0
B18: Łączna ilość żywności z darowizn w kg wydanych osobom zakwalifikowanym do FEPŻ PP 2025 | D18: 0
B19: Łączna ilość żywności z darowizn wydanych pozostałym osobom | D19: 0
B20: Straty (kg) | D20: 0
B21: Razem | D21: =D18+D19+D20 -> 0
B22: Walidacja | D22: =D16+D17-D21 -> 0
B23: Łączna liczba osób zakwalifikowanych do FEPŻ PP 25, którym przekazano żywność z darowizn
B26: Miejsce i data sporządzenia zestawienia | L26: Podpis i pieczęć osoby/osób uprawnionych do reprezentowania organizacji

Sheet Infomacja końcowa FEPZ PP 2025
B2: Informacja końcowa o ilości poszczególnych artykułów spożywczych przekazanych osobom najbardziej potrzebującym oraz liczba osób objętych pomocą żywnościową w ramach FEPŻ PP 2025
B4: należy uzupełnić tylko pola w kolorze
B6: DOTYCZY DYSTRYBUCJI ARTYKUŁÓW SPOŻYWCZYCH FEPŻ [w szt.]
B8: Nazwa OPL | D8: ='Informacja do 03.26'!D7 -> Groszek zielony | E8: ='Informacja do 03.26'!E7 -> Fasola biała | F8: ='Informacja do 03.26'!F7 -> Passata pomidorowa | G8: ='Informacja do 03.26'!G7 -> Dżem truskawkowy | H8: ='Informacja do 03.26'!H7 -> Sok jabłkowy | I8: ='Informacja do 03.26'!I7 -> Sos warzywny słodko-kwaśny | J8: ='Informacja do 03.26'!J7 -> Makaron 4-jajeczny wstążki | K8: ='Informacja do 03.26'!K7 -> Mąka pszenna | ... AA8: ='Informacja do 03.26'!AA7 -> Klopsiki wieprzowe w sosie koperkowym | AB8: Liczba osób objętych pomocą żywnościową
D9: ilość szt | E9: ilość szt | F9: ilość szt | G9: ilość szt | H9: ilość szt | I9: ilość szt | J9: ilość szt | K9: ilość szt | L9: ilość szt | M9: ilość szt | N9: ilość szt | O9: ilość szt | P9: ilość szt | Q9: ilość szt | R9: ilość szt | S9: ilość szt | T9: ilość szt | U9: ilość szt | V9: ilość szt | W9: ilość szt | X9: ilość szt | Y9: ilość szt | Z9: ilość szt | AA9: ilość szt
B10: Łączna ilość przekazanych artykułów spożywczych FEPŻ w sztukach przez OPR do OPL (dane z dokumentu WZ) | D10: 0 | E10: 0 | F10: 0 | G10: 0 | H10: 0 | I10: 0 | J10: 0 | K10: 0 | L10: 0 | M10: 0 | N10: 0 | O10: 0 | P10: 0 | Q10: 0 | R10: 0 | S10: 0 | T10: 0 | U10: 0 | V10: 0 | W10: 0 | X10: 0 | Y10: 0 | Z10: 0 | AA10: 0 | AB10: 0
B11: Łączna ilość artykułów spożywczych w sztukach wydanych osobom zakwalifikowanym do FEPŻ PP 2025 | D11: 0 | E11: 0 | F11: 0 | G11: 0 | H11: 0 | I11: 0 | J11: 0 | K11: 0 | L11: 0 | M11: 0 | N11: 0 | O11: 0 | P11: 0 | Q11: 0 | R11: 0 | S11: 0 | T11: 0 | U11: 0 | V11: 0 | W11: 0 | X11: 0 | Y11: 0 | Z11: 0 | AA11: 0
B12: Straty (szt.) | D12: 0 | E12: 0 | F12: 0 | G12: 0 | H12: 0 | I12: 0 | J12: 0 | K12: 0 | L12: 0 | M12: 0 | N12: 0 | O12: 0 | P12: 0 | Q12: 0 | R12: 0 | S12: 0 | T12: 0 | U12: 0 | V12: 0 | W12: 0 | X12: 0 | Y12: 0 | Z12: 0 | AA12: 0
B13: Razem | D13: =D11+D12 -> 0 | E13: =E11+E12 -> 0 | F13: =F11+F12 -> 0 | G13: =G11+G12 -> 0 | H13: =H11+H12 -> 0 | I13: =I11+I12 -> 0 | J13: =J11+J12 -> 0 | K13: =K11+K12 -> 0 | L13: =L11+L12 -> 0 | Q13: =Q11+Q12 -> 0 | R13: =R11+R12 -> 0 | S13: =S11+S12 -> 0 | T13: =T11+T12 -> 0 | U13: =U11+U12 -> 0 | V13: =V11+V12 -> 0 | W13: =W11+W12 -> 0 | X13: =X11+X12 -> 0 | Y13: =Y11+Y12 -> 0
B14: Walidacja [stan magazynowy] | D14: =D10-D13 -> 0 | E14: =E10-E13 -> 0 | F14: =F10-F13 -> 0 | G14: =G10-G13 -> 0 | H14: =H10-H13 -> 0 | I14: =I10-I13 -> 0 | J14: =J10-J13 -> 0 | K14: =K10-K13 -> 0 | ... AA14: =AA10-AA13 -> 0
B15: LICZBA PACZEK
B16: LICZBA POSIŁKÓW
D18: Liczba osób zakwalifikowanych do FEPŻ PP 2024, którym przekazano artykuły spożywcze FEPŻ
E19: Płeć | G19: Wiek | K19: Podział na grupy docelowe
D20: Ogółem osób | E20: kobiet | F20: mężczyzn | G20: Dzieci do 18 lat | H20: Osoby w wieku 18-29 lat | I20: Powyżej 65 lat | J20: Pozostałe osoby | K20: Osoby z niepełnosprawnościami | L20: Obywatele państw trzecich (spoza UE) | M20: Osoby obcego pochodzenia, mniejszości (np. Romowie) | N20: Osoby bezdome | O20: Pozostałe
B24: DOTYCZY DYSTRYBUCJI ŻYWNOŚCI Z DAROWIZN [w kg]
B26: Łączna ilość żywności z darowizn w kg przekazanej przez OPR do OPL (dane z dokumentu WZ od Banku Żywności) | D26: 0 | G26: Liczba osób zakwalifikowanych do FEPŻ PP 2024, którym przekazano żywność z darowin
B27: Łączna ilość żywności z darowizn w kg pozyskanej przez OPL (dane z dokumentu WZ od darczyńcy) | D27: 0 | H27: Płeć | J27: Wiek | N27: Podział na grupy docelowe
B28: Łączna ilość żywności z darowizn w kg wydanych osobom zakwalifikowanym do FEPZ PP 2025 | D28: 0 | G28: Ogółem osób | H28: kobiet | I28: mężczyzn | J28: Dzieci do 18 lat | K28: Osoby w wieku 18-29 lat | L28: Powyżej 65 lat | M28: Pozostałe osoby | N28: Osoby z niepełnosprawnościami | O28: Obywatele państw trzecich (spoza UE) | P28: Osoby obcego pochodzenia, mniejszości (np. Romowie) | Q28: Osoby bezdome | R28: Pozostałe
B29: Łączna ilość żywności z darowizn wydanych pozostałym osobom | D29: 0
B30: Straty (kg) | D30: 0
B31: Razem | D31: =D28+D29+D30 -> 0
B32: Walidacja | D32: =D26+D27-D31 -> 0
B33: Łączna liczba osób zakwalifikowanych do FEPŻ PP 25, którym przekazano żywność z darowizn
B36: Miejsce i data sporządzenia zestawienia | L36: Imię i nazwisko osoby/osób uprawnionych do reprezentowania organizacji
